BEGIN:VCALENDAR
VERSION:2.0
PRODID:-//hacksw/handcal//NONSGML v1.0//EN
CALSCALE:GREGORIAN
BEGIN:VEVENT
UID:AW-Veranstaltungen-1900
URL;VALUE=URI:https://altes-wettbuero.de/programm/1900.html
SUMMARY:IKAN HYU
DTSTART:20261110T190000Z
DTEND:20261110T223000Z
LOCATION:Altes Wettbüro
DESCRIPTION:live in Dresden
DTSTAMP:20260421T105943Z
END:VEVENT
END:VCALENDAR